BEGIN:VCALENDAR
VERSION:2.0
PRODID:-//NYC Indie Film Fest - ECPv6.15.17.1//NONSGML v1.0//EN
CALSCALE:GREGORIAN
METHOD:PUBLISH
X-ORIGINAL-URL:https://nycindieff.com
X-WR-CALDESC:Events for NYC Indie Film Fest
REFRESH-INTERVAL;VALUE=DURATION:PT1H
X-Robots-Tag:noindex
X-PUBLISHED-TTL:PT1H
BEGIN:VTIMEZONE
TZID:America/New_York
BEGIN:DAYLIGHT
TZOFFSETFROM:-0500
TZOFFSETTO:-0400
TZNAME:EDT
DTSTART:20250309T070000
END:DAYLIGHT
BEGIN:STANDARD
TZOFFSETFROM:-0400
TZOFFSETTO:-0500
TZNAME:EST
DTSTART:20251102T060000
END:STANDARD
BEGIN:DAYLIGHT
TZOFFSETFROM:-0500
TZOFFSETTO:-0400
TZNAME:EDT
DTSTART:20260308T070000
END:DAYLIGHT
BEGIN:STANDARD
TZOFFSETFROM:-0400
TZOFFSETTO:-0500
TZNAME:EST
DTSTART:20261101T060000
END:STANDARD
BEGIN:DAYLIGHT
TZOFFSETFROM:-0500
TZOFFSETTO:-0400
TZNAME:EDT
DTSTART:20270314T070000
END:DAYLIGHT
BEGIN:STANDARD
TZOFFSETFROM:-0400
TZOFFSETTO:-0500
TZNAME:EST
DTSTART:20271107T060000
END:STANDARD
BEGIN:DAYLIGHT
TZOFFSETFROM:-0500
TZOFFSETTO:-0400
TZNAME:EDT
DTSTART:20280312T070000
END:DAYLIGHT
BEGIN:STANDARD
TZOFFSETFROM:-0400
TZOFFSETTO:-0500
TZNAME:EST
DTSTART:20281105T060000
END:STANDARD
END:VTIMEZONE
BEGIN:VEVENT
DTSTART;TZID=America/New_York:20260603T160000
DTEND;TZID=America/New_York:20270603T175000
DTSTAMP:20260422T004730
CREATED:20260327T185214Z
LAST-MODIFIED:20260419T141905Z
UID:20438-1780502400-1812045000@nycindieff.com
SUMMARY:Narrative Feature 3
DESCRIPTION:DAY\nWednesday\, June 3\, 2026\n\n\n\nTIME\n4:00 pm EST. NYC\n\n\nTHEATER\nTheater 1\n\n\nTOTAL DURATION\n1hr:50min\n\n\n\n\n\n    \n    \n    \n        \n            \n                \n            \n            \n                Broken Rhythm: Bruce Lee’s Game of Death (Second Screening)\n                Broken Rhythm stands as the first authentic documentary to delve into Bruce Lee's unfinished film\, Game... \n            \n            \n                Read More & Get Tickets
URL:https://nycindieff.com/session/narrative-feature-3/
LOCATION:The Producers Club\, 358 West 44 Street\,\, New York\, NY\, 10036\, United States
END:VEVENT
END:VCALENDAR